BEGIN:VCALENDAR
VERSION:2.0
PRODID:-//http://qld.raeme.org.au///NONSGML kigkonsult.se iCalcreator 2.10.15//
METHOD:PUBLISH
BEGIN:VEVENT
UID:20260422T123235AEST-22444DNVzP@http://qld.raeme.org.au/
DTSTAMP:20260422T023235Z
DESCRIPTION:The Port Office Dining Room\, Port Office Hotel &nbsp\;will hos
 t our function again this year. It&nbsp\;is open to all and this year the 
 price of one ticket includes entry + buffet lunch + 2 x drink vouchers alo
 ng with other low cost beverages throughout the day.&nbsp\;Save up to $15 
 with the Early Bird Offer by COB 09 April. The cost of the tickets as foll
 ows per person (PP):\n&nbsp\;\n\n\n\n\n&nbsp\;\nTicket\n\nPrice (PP) - Sav
 e up to $15 with the Early Bird Offer up to COB&nbsp\;09 April\n\nPrice (P
 P) from 10-24 April\nPrice on ANZAC Day at the door\n\n\nFinancial RAQ Mem
 ber &amp\; up to one guest\n$25.00 each**\n$35.00 each**\n$40.00 each**\n
 \n\nServing Soldier &amp\; up to one guest\n$25.00 each**\n$35.00 each**\n
 $40.00 each**\n\n\nNon-Members\, Guests\, Affiliates &amp\; extra guests\n
 $35.00 each**\n$40.00 each**\n$45.00 each\n\n\n\n\n&nbsp\;\n** May include
  up to one guest at this price\nExchanging Tickets for Vouchers\nIf you ha
 ve Pre-Purchased tickets\, the best option is to print out your E-ticket a
 nd bring it along on the day. It will be exchanged for Entry\, Meal and Dr
 ink vouchers. We will have committee members at the FUP to exchange ticket
 s for vouchers and again at the door of the Port Office Hotel.&nbsp\;As ea
 ch ticket has a unique number\, once surrendered cannot be reused.&nbsp\;P
 lease treat your vouchers and tickets like cash\, as if they are lost they
  cannot be replaced. If you cannot print your ticket or forget to bring it
 \, don't worry\, we will have attendee lists available to check\, however 
 this may delay entry to the venue.\nTimings\nThe Port Office private RAEME
  function will be open from around 1130 hrs. Drinks will be available for 
 purchase using either a voucher or purchased across the bar.&nbsp\;The Buf
 fet Meal will be served from approx 1230-1430 hrs.&nbsp\;Feel free to gath
 er and sit where you are comfortable. However\, the three fixed tables / b
 ooths adjacent to the toilets have been reserved for some of our older mem
 bers.\n Important note: Payment must accompany all Pre-purchased tickets. 
 This is a private function and for those attending prior to 1500hrs must p
 urchase a ticket. ANZAC Day&nbsp\;Hotel licence requirements for serving&n
 bsp\;Liquor may only be sold or supplied in conjunction with a meal&nbsp\;
 and must be eaten on the premises.\nTo pre-purchase tickets: (Discount Tic
 ket sales close off at 1800hrs 24/4/18)&nbsp\;\nIf you are interested in b
 ecoming a member to save up to $15 and buy tickets at member prices see ho
 w to join RAQ below\n1. click on the Register Button Above (Pre-Purchase h
 as closed)\n2. Select the number of tickets\n3. Select the type of ticket 
 (For Members/Serving Soldiers Select that ticket type) Click 'Add Ticket'
 \n4. For the purchase of other types of tickets in the same transaction\, 
 click the drop down box and select the required ticket type\, Click 'Add T
 icket'\n5. Select Paypal Payment type - (Please note: You don't need to be
  registered with Paypal to pay via Credit or Debit Card)\n6. Click Continu
 e\nWait until you are directed to the Paypal Payment Page. This can take u
 p to 30 seconds\nOnce your payment is confirmed\, you will receive an emai
 l with your E-ticket attached. If you make a mistake simply cancel and sta
 rt again\, or send us an email \nPlease Note: Once purchased and paid for\
 , tickets are non-refundable\nJoining RAQ\nIf you are not a financial memb
 er you can save $$$ today by joining the RAQ. Go to the membership tab abo
 ve and sign up today\, $10 annual or $100 life subscription.You can save a
  minimum of $20 a year by attending just two functions plus you get all th
 e other discounts\, badge etc. http://qld.raeme.org.au/index.php/notices/e
 vents/event/354-anzac-day-function-brisbane
DTSTART:20180425T010000Z
DTEND:20180425T070000Z
LOCATION:Port Office Hotel (40 Edward St\, Brisbane City QLD 4000\, Austral
 ia)
SUMMARY:ANZAC Day Function Brisbane
URL:http://qld.raeme.org.au/index.php/notices/events/event/354-anzac-day-fu
 nction-brisbane
END:VEVENT
END:VCALENDAR
