BEGIN:VCALENDAR
VERSION:2.0
PRODID:-//https://qld.raeme.org.au///NONSGML kigkonsult.se iCalcreator 2.10.15//
METHOD:PUBLISH
BEGIN:VEVENT
UID:20260423T185957AEST-2208vU7R5U@https://qld.raeme.org.au/
DTSTAMP:20260423T085957Z
DESCRIPTION:Kittyhawk Drive Chermside (off Hamilton Rd)\nThe meeting is gen
 erally&nbsp\; held in the Board Room Level 2 via the lift\nParking is avai
 lable. Members are invited to the 'The Kitchen' at the Club for a meal and
  catch up following the meeting.\nMore details are available by clicking o
 n the Meeting file link below.&nbsp\; https://qld.raeme.org.au/index.php/c
 omponent/rseventspro/event/590-raq-monthly-meeting?Itemid=224
DTSTART:20240501T073000Z
DTEND:20240501T090000Z
LOCATION:Kedron Wavell Services Club (61 Kittyhawk Drive\, Chermside QLD 40
 32\, Australia)
SUMMARY:RAQ Monthly Meeting
URL:https://qld.raeme.org.au/index.php/component/rseventspro/event/590-raq-
 monthly-meeting?Itemid=224
END:VEVENT
END:VCALENDAR
