BEGIN:VCALENDAR
VERSION:2.0
PRODID:-//https://qld.raeme.org.au///NONSGML kigkonsult.se iCalcreator 2.10.15//
METHOD:PUBLISH
BEGIN:VEVENT
UID:20260423T042028AEST-8239uEPdLe@https://qld.raeme.org.au/
DTSTAMP:20260422T182028Z
DESCRIPTION:RAEME Birthday Celebrations in Cairns are in full swing for tho
 se members and guests in Cairns.\nDetails are: \n\nSalt House\nMarina Poin
 t\, 6/2 Pier Point Rd\,&nbsp\;Cairns City\nTimings 1300hr – 1600hr\nAll cu
 rrent and ex-serving RAEME personnel and family welcome\nBar snacks and ca
 napes provided\n\nnorth@qld.raeme.org.au https://qld.raeme.org.au/index.ph
 p/notices/events/event/481-raeme-birthday-celebrations-cairns-2021
DTSTART:20211127T030000Z
DTEND:20211127T070000Z
LOCATION:Salt House (Marina Point\, 6/2 Pier Point Rd\, Cairns City QLD 487
 0)
SUMMARY:RAEME Birthday Celebrations Cairns 2021
URL:https://qld.raeme.org.au/index.php/notices/events/event/481-raeme-birth
 day-celebrations-cairns-2021
END:VEVENT
END:VCALENDAR
